BEGIN:VCALENDAR
VERSION:2.0
PRODID:-//Mosaic Miami - ECPv6.13.1//NONSGML v1.0//EN
CALSCALE:GREGORIAN
METHOD:PUBLISH
X-WR-CALNAME:Mosaic Miami
X-ORIGINAL-URL:https://mosaic-miami.org
X-WR-CALDESC:Events for Mosaic Miami
REFRESH-INTERVAL;VALUE=DURATION:PT1H
X-Robots-Tag:noindex
X-PUBLISHED-TTL:PT1H
BEGIN:VTIMEZONE
TZID:America/New_York
BEGIN:DAYLIGHT
TZOFFSETFROM:-0500
TZOFFSETTO:-0400
TZNAME:EDT
DTSTART:20250309T070000
END:DAYLIGHT
BEGIN:STANDARD
TZOFFSETFROM:-0400
TZOFFSETTO:-0500
TZNAME:EST
DTSTART:20251102T060000
END:STANDARD
END:VTIMEZONE
BEGIN:VEVENT
DTSTART;VALUE=DATE:20251110
DTEND;VALUE=DATE:20251111
DTSTAMP:20260420T115416
CREATED:20251104T214605Z
LAST-MODIFIED:20251104T214605Z
UID:5086-1762732800-1762819199@mosaic-miami.org
SUMMARY:Camp MetroTown 2026 Applications Open!
DESCRIPTION:Applications for MetroTown 2026 will open on November 10th! Stay tuned on November 10th for more information including our flyer and application form. For more information\, please contact metrotown@mosaic-miami.org
URL:https://mosaic-miami.org/event/camp-metrotown-2026-applications-open/
LOCATION:FL
END:VEVENT
BEGIN:VEVENT
DTSTART;VALUE=DATE:20251115
DTEND;VALUE=DATE:20251120
DTSTAMP:20260420T115416
CREATED:20250918T174026Z
LAST-MODIFIED:20250918T174452Z
UID:4933-1763164800-1763596799@mosaic-miami.org
SUMMARY:Give Miami Day Early Giving
DESCRIPTION:Join Mosaic Miami for Give Miami Day! Your support empowers Mosaic Miami to continue building bridges across lines of difference\, fostering dialogue\, education\, and understanding that strengthens our community. Every donation helps us put resources where they’re needed most to further our mission of uniting Miami.
URL:https://mosaic-miami.org/event/give-miami-day-early-giving/
LOCATION:Virtual\, Miami\, Florida
END:VEVENT
BEGIN:VEVENT
DTSTART;TZID=America/New_York:20251116T111500
DTEND;TZID=America/New_York:20251116T135000
DTSTAMP:20260420T115416
CREATED:20251104T214033Z
LAST-MODIFIED:20251104T214033Z
UID:5075-1763291700-1763301000@mosaic-miami.org
SUMMARY:3rd Annual Breaking Bread\, Breaking Bias Interfaith Service & Potluck
DESCRIPTION:Join us for an interfaith service with Islamic\, Jewish\, Unitarian Universalist\, and Unity traditions. Together\, we’ll share prayers\, music\, meals\, and stories – building bridges of understanding\, allyship\, and community. Through liturgy\, conversation\, and connection\, we’ll create a loving\, supportive space rooted in sacred sharing.
URL:https://mosaic-miami.org/event/3rd-annual-breaking-bread-breaking-bias-interfaith-service-potluck/
LOCATION:Temple Isreal\, 137 NE 19th Street\, Miami\, FL\, 33132\, United States
END:VEVENT
BEGIN:VEVENT
DTSTART;VALUE=DATE:20251120
DTEND;VALUE=DATE:20251121
DTSTAMP:20260420T115416
CREATED:20250918T174649Z
LAST-MODIFIED:20250923T194447Z
UID:4941-1763596800-1763683199@mosaic-miami.org
SUMMARY:Give Miami Day
DESCRIPTION:Join Mosaic Miami for Give Miami Day! Your support empowers Mosaic Miami to continue building bridges across lines of difference\, fostering dialogue\, education\, and understanding that strengthens our community. Every donation helps us put resources where they’re needed most to further our mission of uniting Miami.
URL:https://mosaic-miami.org/event/give-miami-day-2/
LOCATION:FL
END:VEVENT
BEGIN:VEVENT
DTSTART;VALUE=DATE:20251127
DTEND;VALUE=DATE:20251128
DTSTAMP:20260420T115416
CREATED:20251104T214843Z
LAST-MODIFIED:20251104T214909Z
UID:5089-1764201600-1764287999@mosaic-miami.org
SUMMARY:Thanksgiving Day: Office Closed
DESCRIPTION:Mosaic Miami’s office will be closed in observance of the Thanksgiving Holiday.
URL:https://mosaic-miami.org/event/thanksgiving-day-office-closed/
LOCATION:FL
END:VEVENT
BEGIN:VEVENT
DTSTART;VALUE=DATE:20251130
DTEND;VALUE=DATE:20251201
DTSTAMP:20260420T115416
CREATED:20251104T213721Z
LAST-MODIFIED:20251104T214118Z
UID:5072-1764460800-1764547199@mosaic-miami.org
SUMMARY:Last Day for Humanitarian Dinner Early Bird Ticket Pricing 🎟️
DESCRIPTION:Don’t miss your opportunity to secure early bird tickets for Mosaic Miami’s Humanitarian Dinner. The last day for early bird sales is November 30th. Click below for tickets and more  information. 🎟️
URL:https://mosaic-miami.org/event/last-day-for-humanitarian-dinner-early-bird-ticket-pricing-%f0%9f%8e%9f%ef%b8%8f/
LOCATION:University of Miami Shalala Student Center\, Miami\, FL\, United States
END:VEVENT
END:VCALENDAR