BEGIN:VCALENDAR
VERSION:2.0
PRODID:-//Mosaic Miami - ECPv6.13.1//NONSGML v1.0//EN
CALSCALE:GREGORIAN
METHOD:PUBLISH
X-ORIGINAL-URL:https://mosaic-miami.org
X-WR-CALDESC:Events for Mosaic Miami
REFRESH-INTERVAL;VALUE=DURATION:PT1H
X-Robots-Tag:noindex
X-PUBLISHED-TTL:PT1H
BEGIN:VTIMEZONE
TZID:America/New_York
BEGIN:DAYLIGHT
TZOFFSETFROM:-0500
TZOFFSETTO:-0400
TZNAME:EDT
DTSTART:20250309T070000
END:DAYLIGHT
BEGIN:STANDARD
TZOFFSETFROM:-0400
TZOFFSETTO:-0500
TZNAME:EST
DTSTART:20251102T060000
END:STANDARD
END:VTIMEZONE
BEGIN:VEVENT
DTSTART;VALUE=DATE:20250901
DTEND;VALUE=DATE:20250902
DTSTAMP:20260420T090053
CREATED:20250829T192702Z
LAST-MODIFIED:20250829T192702Z
UID:4867-1756684800-1756771199@mosaic-miami.org
SUMMARY:Labor Day - Office Closed
DESCRIPTION:Mosaic Miami’s offices will be closed on Monday in observance of Labor Day.
URL:https://mosaic-miami.org/event/labor-day-office-closed/
LOCATION:FL
END:VEVENT
BEGIN:VEVENT
DTSTART;TZID=America/New_York:20250911T103000
DTEND;TZID=America/New_York:20250911T120000
DTSTAMP:20260420T090053
CREATED:20250827T164900Z
LAST-MODIFIED:20250910T154836Z
UID:4837-1757586600-1757592000@mosaic-miami.org
SUMMARY:POSTPONED: Interfaith Clergy Dialogue Meeting
DESCRIPTION:This meeting has been postponed! Please keep an eye out for an updated date. \nMosaic Miami’s Interfaith Clergy Dialogue is the longest-running program of its kind in the United States. This initiative brings together religious leaders from a wide range of faith traditions for regular\, meaningful dialogue focused on fostering understanding\, collaboration\, and collective action. \nHeld monthly\, these gatherings provide a safe and welcoming space for clergy to engage in honest conversations about pressing community issues\, including antisemitism\, racial prejudice\, immigration\, and other social challenges. Through open dialogue and mutual respect\, members work to strengthen interfaith relationships and create unified responses that reflect the diverse spiritual fabric of Miami. \nMore than just discussion\, the Interfaith Clergy Dialogue plays a critical role in shaping inclusive\, faith-based responses to community needs.
URL:https://mosaic-miami.org/event/interfaith-clergy-dialogue-meeting-2-2-2-2/
LOCATION:Temple Judea Gables\, 5500 Granada Blvd\, Coral Gables\, FL\, 333146\, United States
END:VEVENT
BEGIN:VEVENT
DTSTART;TZID=America/New_York:20250917T130000
DTEND;TZID=America/New_York:20250917T160000
DTSTAMP:20260420T090053
CREATED:20250811T194501Z
LAST-MODIFIED:20250813T182226Z
UID:4805-1758114000-1758124800@mosaic-miami.org
SUMMARY:Barry University’s Peace Week Carnival
DESCRIPTION:Join Mosaic Miami at Barry University’s Peace Week Carnival. This event brings together students\, community organizations\, and changemakers to celebrate social justice\, voting rights\, and overall wellbeing. We look forward to connecting with Barry students and sharing how Mosaic Miami’s youth programs\, community dialogues\, and leadership initiatives are making a difference in Miami.
URL:https://mosaic-miami.org/event/barry-universitys-peace-week-carnival/
LOCATION:Barry University
END:VEVENT
BEGIN:VEVENT
DTSTART;TZID=America/New_York:20250930T183000
DTEND;TZID=America/New_York:20250930T203000
DTSTAMP:20260420T090053
CREATED:20250725T145043Z
LAST-MODIFIED:20250725T145604Z
UID:4758-1759257000-1759264200@mosaic-miami.org
SUMMARY:Emerging Leaders Dinner with Saif Ishoof
DESCRIPTION:Mosaic Miami is proud to host an Emerging Leaders dinner featuring a distinguished guest of honor:Saif Ishoof\, Founder & Managing Partner of Lab22c. \n🌟 About Our Honoree:A trailblazer in innovation and civic impact\, Saif Ishoof has spent his career empowering communities\, startups\, and future-forward leaders. As the founder of Lab22c\, he works at the intersection of technology\, equity\, and opportunity to help build a better Miami — one bold idea at a time. \nThis event is by invitation only.To inquire about attendance or for more information\, please email Moni Gonzalez
URL:https://mosaic-miami.org/event/emerging-leaders-dinner-with-dr-jose-dotres-2/
LOCATION:Greenberg Traurig
END:VEVENT
END:VCALENDAR