BEGIN:VCALENDAR
VERSION:2.0
PRODID:-//Mosaic Miami - ECPv6.13.1//NONSGML v1.0//EN
CALSCALE:GREGORIAN
METHOD:PUBLISH
X-WR-CALNAME:Mosaic Miami
X-ORIGINAL-URL:https://mosaic-miami.org
X-WR-CALDESC:Events for Mosaic Miami
REFRESH-INTERVAL;VALUE=DURATION:PT1H
X-Robots-Tag:noindex
X-PUBLISHED-TTL:PT1H
BEGIN:VTIMEZONE
TZID:America/New_York
BEGIN:DAYLIGHT
TZOFFSETFROM:-0500
TZOFFSETTO:-0400
TZNAME:EDT
DTSTART:20250309T070000
END:DAYLIGHT
BEGIN:STANDARD
TZOFFSETFROM:-0400
TZOFFSETTO:-0500
TZNAME:EST
DTSTART:20251102T060000
END:STANDARD
END:VTIMEZONE
BEGIN:VEVENT
DTSTART;TZID=America/New_York:20251020T180000
DTEND;TZID=America/New_York:20251020T203000
DTSTAMP:20260420T133641
CREATED:20251002T152541Z
LAST-MODIFIED:20251002T152902Z
UID:4997-1760983200-1760992200@mosaic-miami.org
SUMMARY:Nostra Aetate at 60: Celebrating Catholic-Jewish Relations in America
DESCRIPTION:Mosaic Miami is proud to join St. Thomas University\, the American Jewish Committee\, and community partners in celebrating the 60th anniversary of Nostra Aetate\, a landmark document that transformed Catholic-Jewish relations and continues to shape interfaith dialogue today. This special program will honor the legacy and impact of Nostra Aetate in America\, featuring distinguished guests \n📅 Date: Monday\, October 20\, 2025🕕 Time: 6:00pm – 8:30pm📍 Location: St. Thomas University \nSpace is limited—please RSVP to reserve your spot.
URL:https://mosaic-miami.org/event/nostra-aetate-at-60-celebrating-catholic-jewish-relations-in-america/
LOCATION:St. Thomas University
END:VEVENT
END:VCALENDAR