BEGIN:VCALENDAR
VERSION:2.0
PRODID:-//Mosaic Miami - ECPv6.13.1//NONSGML v1.0//EN
CALSCALE:GREGORIAN
METHOD:PUBLISH
X-WR-CALNAME:Mosaic Miami
X-ORIGINAL-URL:https://mosaic-miami.org
X-WR-CALDESC:Events for Mosaic Miami
REFRESH-INTERVAL;VALUE=DURATION:PT1H
X-Robots-Tag:noindex
X-PUBLISHED-TTL:PT1H
BEGIN:VTIMEZONE
TZID:America/New_York
BEGIN:DAYLIGHT
TZOFFSETFROM:-0500
TZOFFSETTO:-0400
TZNAME:EDT
DTSTART:20250309T070000
END:DAYLIGHT
BEGIN:STANDARD
TZOFFSETFROM:-0400
TZOFFSETTO:-0500
TZNAME:EST
DTSTART:20251102T060000
END:STANDARD
END:VTIMEZONE
BEGIN:VEVENT
DTSTART;TZID=America/New_York:20251003T170000
DTEND;TZID=America/New_York:20251003T180000
DTSTAMP:20260420T102853
CREATED:20250805T163048Z
LAST-MODIFIED:20250807T182945Z
UID:4771-1759510800-1759514400@mosaic-miami.org
SUMMARY:Deadline for 2026 Silver Medallion Nominations
DESCRIPTION:Don’t miss your chance to recognize an outstanding leader! Nominations for the 2026 Silver Medallion Award are due by Friday\, October 3rd at 5:00 PM. Submit your nomination to honor someone who exemplifies Mosaic Miami’s mission of building bridges across diverse communities. \nQuestions or concerns? Contact Matt Anderson
URL:https://mosaic-miami.org/event/deadline-for-2026-silver-medallion-nominations/
LOCATION:FL
END:VEVENT
END:VCALENDAR