BEGIN:VCALENDAR
VERSION:2.0
PRODID:-//Mosaic Miami - ECPv6.13.1//NONSGML v1.0//EN
CALSCALE:GREGORIAN
METHOD:PUBLISH
X-ORIGINAL-URL:https://mosaic-miami.org
X-WR-CALDESC:Events for Mosaic Miami
REFRESH-INTERVAL;VALUE=DURATION:PT1H
X-Robots-Tag:noindex
X-PUBLISHED-TTL:PT1H
BEGIN:VTIMEZONE
TZID:America/New_York
BEGIN:DAYLIGHT
TZOFFSETFROM:-0500
TZOFFSETTO:-0400
TZNAME:EDT
DTSTART:20250309T070000
END:DAYLIGHT
BEGIN:STANDARD
TZOFFSETFROM:-0400
TZOFFSETTO:-0500
TZNAME:EST
DTSTART:20251102T060000
END:STANDARD
END:VTIMEZONE
BEGIN:VEVENT
DTSTART;TZID=America/New_York:20250911T103000
DTEND;TZID=America/New_York:20250911T120000
DTSTAMP:20260420T120109
CREATED:20250827T164900Z
LAST-MODIFIED:20250910T154836Z
UID:4837-1757586600-1757592000@mosaic-miami.org
SUMMARY:POSTPONED: Interfaith Clergy Dialogue Meeting
DESCRIPTION:This meeting has been postponed! Please keep an eye out for an updated date. \nMosaic Miami’s Interfaith Clergy Dialogue is the longest-running program of its kind in the United States. This initiative brings together religious leaders from a wide range of faith traditions for regular\, meaningful dialogue focused on fostering understanding\, collaboration\, and collective action. \nHeld monthly\, these gatherings provide a safe and welcoming space for clergy to engage in honest conversations about pressing community issues\, including antisemitism\, racial prejudice\, immigration\, and other social challenges. Through open dialogue and mutual respect\, members work to strengthen interfaith relationships and create unified responses that reflect the diverse spiritual fabric of Miami. \nMore than just discussion\, the Interfaith Clergy Dialogue plays a critical role in shaping inclusive\, faith-based responses to community needs.
URL:https://mosaic-miami.org/event/interfaith-clergy-dialogue-meeting-2-2-2-2/
LOCATION:Temple Judea Gables\, 5500 Granada Blvd\, Coral Gables\, FL\, 333146\, United States
END:VEVENT
END:VCALENDAR